BEGIN:VCALENDAR
VERSION:2.0
PRODID:-//wp-events-plugin.com//7.0.4//EN
BEGIN:VEVENT
UID:14@oscarpino.com
DTSTART;TZID=America/Costa_Rica:20220105T190000
DTEND;TZID=America/Costa_Rica:20220105T210000
DTSTAMP:20211228T230059Z
URL:https://oscarpino.com/events/concierto-mate-y-cafe-rocio-perez-y-oscar
 -pino/
SUMMARY:Concierto Mate y Café.  Rocío Perez (Argentina) y Oscar Pino (Cos
 ta Rica)
DESCRIPTION:
LOCATION:Jazz Cafe\, Escazu\, Escazu\, San José\, 10202\, Costa Rica
X-APPLE-STRUCTURED-LOCATION;VALUE=URI;X-ADDRESS=Escazu\, Escazu\, San José
 \, 10202\, Costa Rica;X-APPLE-RADIUS=100;X-TITLE=Jazz Cafe:geo:0,0
END:VEVENT
BEGIN:VTIMEZONE
TZID:America/Costa_Rica
X-LIC-LOCATION:America/Costa_Rica
BEGIN:STANDARD
DTSTART:20210105T190000
TZOFFSETFROM:-0600
TZOFFSETTO:-0600
TZNAME:CST
END:STANDARD
END:VTIMEZONE
END:VCALENDAR