BEGIN:VCALENDAR
VERSION:2.0
PRODID:-//wp-events-plugin.com//7.0.4//EN
BEGIN:VEVENT
UID:71@oscarpino.com
DTSTART;TZID=America/Costa_Rica:20231102T200000
DTEND;TZID=America/Costa_Rica:20231102T220000
DTSTAMP:20231102T145813Z
URL:https://oscarpino.com/events/centro-cultural-key-largo/
SUMMARY:Del Mar Restaurante\, Café y Galería
DESCRIPTION:
CATEGORIES:Live Music Venue
LOCATION:Del Mar Restaurante\, Costado Sur Parque Morazán\, San Jose\, Cos
 ta Rica\, Costa Rica
GEO:9.935553;-84.076813
X-APPLE-STRUCTURED-LOCATION;VALUE=URI;X-ADDRESS=Costado Sur Parque Morazán
 \, San Jose\, Costa Rica\, Costa Rica;X-APPLE-RADIUS=100;X-TITLE=Del Mar R
 estaurante:geo:9.935553,-84.076813
END:VEVENT
BEGIN:VTIMEZONE
TZID:America/Costa_Rica
X-LIC-LOCATION:America/Costa_Rica
BEGIN:STANDARD
DTSTART:20221102T200000
TZOFFSETFROM:-0600
TZOFFSETTO:-0600
TZNAME:CST
END:STANDARD
END:VTIMEZONE
END:VCALENDAR