BEGIN:VCALENDAR
VERSION:2.0
PRODID:-//wp-events-plugin.com//7.0.4//EN
BEGIN:VEVENT
UID:49@oscarpino.com
DTSTART;TZID=America/Costa_Rica:20230416T103000
DTEND;TZID=America/Costa_Rica:20230416T123000
DTSTAMP:20230411T115505Z
URL:https://oscarpino.com/events/brunch-la-querencia/
SUMMARY:Brunch @ La Querencia
DESCRIPTION:
CATEGORIES:Live Music Venue
LOCATION:La Querencia Pinares\, CC Utropica\, La Unión\,  La Unión\, Tres
  Rios\, Costa Rica
X-APPLE-STRUCTURED-LOCATION;VALUE=URI;X-ADDRESS=CC Utropica\, La Unión\,  
 La Unión\, Tres Rios\, Costa Rica;X-APPLE-RADIUS=100;X-TITLE=La Querencia
  Pinares:geo:0,0
END:VEVENT
BEGIN:VTIMEZONE
TZID:America/Costa_Rica
X-LIC-LOCATION:America/Costa_Rica
BEGIN:STANDARD
DTSTART:20220416T103000
TZOFFSETFROM:-0600
TZOFFSETTO:-0600
TZNAME:CST
END:STANDARD
END:VTIMEZONE
END:VCALENDAR