BEGIN:VCALENDAR
VERSION:2.0
PRODID:-//wp-events-plugin.com//7.0.4//EN
BEGIN:VEVENT
UID:34@oscarpino.com
DTSTART;TZID=America/Costa_Rica:20221028T180000
DTEND;TZID=America/Costa_Rica:20221028T220000
DTSTAMP:20221017T181423Z
URL:https://oscarpino.com/events/artista-lunaticos-con-adrian-goizueta-ale
 x-piedra-allan-guzman-y-esteban-chavarria/
SUMMARY:Artista Lunáticos con Adrián Goizueta\, Alex Piedra\, Allan Guzm
 án y Esteban Chavarría
DESCRIPTION:
LOCATION:Escuela de Idiomas ELEC San Isidro de Heredia\, ELEC San Isidro\, 
 San Isidro\, Heredia\, Heredia\, Costa Rica
X-APPLE-STRUCTURED-LOCATION;VALUE=URI;X-ADDRESS=ELEC San Isidro\, San Isidr
 o\, Heredia\, Heredia\, Costa Rica;X-APPLE-RADIUS=100;X-TITLE=Escuela de I
 diomas ELEC San Isidro de Heredia:geo:0,0
END:VEVENT
BEGIN:VTIMEZONE
TZID:America/Costa_Rica
X-LIC-LOCATION:America/Costa_Rica
BEGIN:STANDARD
DTSTART:20211028T180000
TZOFFSETFROM:-0600
TZOFFSETTO:-0600
TZNAME:CST
END:STANDARD
END:VTIMEZONE
END:VCALENDAR