BEGIN:VCALENDAR
VERSION:2.0
PRODID:-//wp-events-plugin.com//7.0.4//EN
BEGIN:VEVENT
UID:10@oscarpino.com
DTSTART;TZID=America/Costa_Rica:20210731T170000
DTEND;TZID=America/Costa_Rica:20210731T183000
DTSTAMP:20210730T205852Z
URL:https://oscarpino.com/events/aloha-mateo/
SUMMARY:Aloha Mateo
DESCRIPTION:
LOCATION:Cerro Alto Condominium #44\, Escazu\, Escazu\, San José\, 10202\,
  Costa Rica
X-APPLE-STRUCTURED-LOCATION;VALUE=URI;X-ADDRESS=Escazu\, Escazu\, San José
 \, 10202\, Costa Rica;X-APPLE-RADIUS=100;X-TITLE=Cerro Alto Condominium #4
 4:geo:0,0
END:VEVENT
BEGIN:VTIMEZONE
TZID:America/Costa_Rica
X-LIC-LOCATION:America/Costa_Rica
BEGIN:STANDARD
DTSTART:20200731T170000
TZOFFSETFROM:-0600
TZOFFSETTO:-0600
TZNAME:CST
END:STANDARD
END:VTIMEZONE
END:VCALENDAR