BEGIN:VCALENDAR
VERSION:2.0
PRODID:-//wp-events-plugin.com//7.0.4//EN
BEGIN:VEVENT
UID:11@oscarpino.com
DTSTART;TZID=America/Costa_Rica:20210806T160000
DTEND;TZID=America/Costa_Rica:20210806T193000
DTSTAMP:20210730T210136Z
URL:https://oscarpino.com/events/acacia-is-growing/
SUMMARY:Acacia is Growing!
DESCRIPTION:
LOCATION:Acacia Legal Plaza Colonial Escazú\, Plaza Colonial\, Escazu\, Sa
 n José\, 10202\, Costa Rica
X-APPLE-STRUCTURED-LOCATION;VALUE=URI;X-ADDRESS=Plaza Colonial\, Escazu\, S
 an José\, 10202\, Costa Rica;X-APPLE-RADIUS=100;X-TITLE=Acacia Legal Plaz
 a Colonial Escazú:geo:0,0
END:VEVENT
BEGIN:VTIMEZONE
TZID:America/Costa_Rica
X-LIC-LOCATION:America/Costa_Rica
BEGIN:STANDARD
DTSTART:20200806T160000
TZOFFSETFROM:-0600
TZOFFSETTO:-0600
TZNAME:CST
END:STANDARD
END:VTIMEZONE
END:VCALENDAR