BEGIN:VCALENDAR
VERSION:2.0
PRODID:-//wp-events-plugin.com//7.0.4//EN
BEGIN:VEVENT
UID:9@oscarpino.com
DTSTART;TZID=America/Costa_Rica:20211201T180000
DTEND;TZID=America/Costa_Rica:20211201T180000
DTSTAMP:20210721T171728Z
URL:https://oscarpino.com/events/500-noches/
SUMMARY:500 Noches
DESCRIPTION:
LOCATION:500 Noches\, Hidalgo Av.\, Isla Mujeres\, Quintana R\, Mexico
X-APPLE-STRUCTURED-LOCATION;VALUE=URI;X-ADDRESS=Hidalgo Av.\, Isla Mujeres\
 , Quintana R\, Mexico;X-APPLE-RADIUS=100;X-TITLE=500 Noches:geo:0,0
END:VEVENT
BEGIN:VTIMEZONE
TZID:America/Costa_Rica
X-LIC-LOCATION:America/Costa_Rica
BEGIN:STANDARD
DTSTART:20201201T180000
TZOFFSETFROM:-0600
TZOFFSETTO:-0600
TZNAME:CST
END:STANDARD
END:VTIMEZONE
END:VCALENDAR